BEGIN:VCALENDAR
VERSION:2.0
PRODID:-//Portal de la Filmoteca de Castilla y León - ECPv6.15.13//NONSGML v1.0//EN
CALSCALE:GREGORIAN
METHOD:PUBLISH
X-WR-CALNAME:Portal de la Filmoteca de Castilla y León
X-ORIGINAL-URL:https://filmotecadecastillayleon.es
X-WR-CALDESC:Eventos para Portal de la Filmoteca de Castilla y León
REFRESH-INTERVAL;VALUE=DURATION:PT1H
X-Robots-Tag:noindex
X-PUBLISHED-TTL:PT1H
BEGIN:VTIMEZONE
TZID:Europe/Madrid
BEGIN:DAYLIGHT
TZOFFSETFROM:+0100
TZOFFSETTO:+0200
TZNAME:CEST
DTSTART:20250330T010000
END:DAYLIGHT
BEGIN:STANDARD
TZOFFSETFROM:+0200
TZOFFSETTO:+0100
TZNAME:CET
DTSTART:20251026T010000
END:STANDARD
BEGIN:DAYLIGHT
TZOFFSETFROM:+0100
TZOFFSETTO:+0200
TZNAME:CEST
DTSTART:20260329T010000
END:DAYLIGHT
BEGIN:STANDARD
TZOFFSETFROM:+0200
TZOFFSETTO:+0100
TZNAME:CET
DTSTART:20261025T010000
END:STANDARD
BEGIN:DAYLIGHT
TZOFFSETFROM:+0100
TZOFFSETTO:+0200
TZNAME:CEST
DTSTART:20270328T010000
END:DAYLIGHT
BEGIN:STANDARD
TZOFFSETFROM:+0200
TZOFFSETTO:+0100
TZNAME:CET
DTSTART:20271031T010000
END:STANDARD
END:VTIMEZONE
BEGIN:VEVENT
DTSTART;TZID=Europe/Madrid:20260529T203000
DTEND;TZID=Europe/Madrid:20260529T213000
DTSTAMP:20260422T161528
CREATED:20260202T190724Z
LAST-MODIFIED:20260202T190724Z
UID:10001028-1780086600-1780090200@filmotecadecastillayleon.es
SUMMARY:COMUNIDAD SEMINCI - 2026 Febrero a Mayo
DESCRIPTION:COMUNIDAD SEMINCI2026\n\n  \n + info \n\nProgramación Comunidad SEMINCI 2026:. … . \n  \nSALAMANCA – TEATRO JUAN DEL ENZINA | 19.30 hC/ Tostado\, 8● Miércoles\, 11 de febrero – BLUE SUN PALACE\, Constance Tsang (2024)● Jueves\, 12 de febrero – VERMIGLIO\, Maura Delpero (2024)● Miércoles\, 18 de febrero – LA RECETA PERFECTA\, (HOLY COW)\, Louise Courvoisier (2024)● Miércoles\, 25 de febrero – SEX (SEXO EN OSLO)\, Dag Johan Haugerud (2024) \nÁVILA – EPISCOPIO | 20.30 hPlaza de la Catedral s/n● Jueves\, 5 de marzo – BLUE SUN PALACE\, Constance Tsang (2024)● Jueves\, 12 de marzo – VERMIGLIO\, Maura Delpero (2024)● Jueves\, 19 de marzo – LA RECETA PERFECTA (HOLY COW)\, Louise Courvoisier (2024)● Jueves\, 26 de marzo – SEX (SEXO EN OSLO)\, Dag Johan Haugerud (2024) \nLA BAÑEZA (LEÓN) – TEATRO MUNICIPAL | 20.30 hC/ Padre Miguélez\, 13● Jueves\, 5 de marzo – BLUE SUN PALACE\, Constance Tsang (2024)● Jueves\, 12 de marzo – VERMIGLIO\, Maura Delpero (2024)● Jueves\, 19 de marzo – LA RECETA PERFECTA (HOLY COW)\, Louise Courvoisier (2024)● Jueves\, 26 de marzo – SEX (SEXO EN OSLO)\, Dag Johan Haugerud (2024) \nPONFERRADA (LEÓN) – BIBLIOTECA MUNICIPAL ‘VALENTÍN GARCÍA YERBA’ | 19.00 hC/ Gran Vía Reino de León\, 22● Lunes\, 9 de marzo – BLUE SUN PALACE\, Constance Tsang (2024)● Martes\, 10 de marzo – VERMIGLIO\, Maura Delpero (2024)● Miércoles\, 11 de marzo – LA RECETA PERFECTA (HOLY COW)\, Louise Courvoisier (2024)● Jueves\, 12 de marzo – SEX (SEXO EN OSLO)\, Dag Johan Haugerud (2024) \nSORIA – CINES MERCADO | 19.30 hPlaza Bernardo Robles\, 7-8● Miércoles\, 6 de mayo – BLUE SUN PALACE\, Constance Tsang (2024)● Miércoles\, 13 de mayo – VERMIGLIO\, Maura Delpero (2024)● Miércoles\, 20 de mayo – LA RECETA PERFECTA (HOLY COW)\, Louise Courvoisier (2024)● Miércoles\, 27 de mayo – SEX (SEXO EN OSLO)\, Dag Johan Haugerud (2024) \nBÉJAR – TEATRO CERVANTES | 20.30 hC/ Olleros\, 1● Viernes\, 8 de mayo – BLUE SUN PALACE\, Constance Tsang (2024)● Viernes\, 15 de mayo – VERMIGLIO\, Maura Delpero (2024)● Viernes\, 22 de mayo – LA RECETA PERFECTA (HOLY COW)\, Louise Courvoisier (2024)● Viernes\, 29 de mayo – SEX (SEXO EN OSLO)\, Dag Johan Haugerud (2024) \n  \n  \n+ info \n \n\n\n\nen Salamanca:19.30 hTeatro Juan del EnzinaC/ Tostado\, 8Entrada libre hasta completar el aforo\n\n\n\n  \n  \n  Agenda del Mes\n \n\n\n \n \n\n\n\n \n\n 
URL:https://filmotecadecastillayleon.es/evento/comunidad-seminci-2026-febrero-a-mayo/2026-05-29/
LOCATION:Filmoteca de Castilla y León\, Calle Gonzala Santana\, Salamanca\, Salamanca\, 37001\, España
ORGANIZER;CN="Filmoteca de Castilla y Le%C3%B3n":MAILTO:filmoteca@jcyl.es
END:VEVENT
BEGIN:VEVENT
DTSTART;TZID=Europe/Madrid:20260613T110000
DTEND;TZID=Europe/Madrid:20260613T120000
DTSTAMP:20260422T161528
CREATED:20251030T193524Z
LAST-MODIFIED:20260114T083445Z
UID:10000795-1781348400-1781352000@filmotecadecastillayleon.es
SUMMARY:CLUB DE CINE FILMOTECA Y FILOLOGÍA USAL · Grupo de escritura de guiones. REESCRITURAS LIBRES - noviembre de 2025 a junio de 2026
DESCRIPTION:CLUB DE CINEGrupo de escritura de guionesREESCRITURASLIBRES \n\n  \n + info \n\n  \n  \n  Sábados |8 de noviembre\, 10 de enero\, 7 de marzo y 13 de junio  a las 11.00 h \nREESCRITURASLIBRES \nAntes del 6 de noviembre de 2025. \n+ info \n  \n \n\n\n\n  \n  \n  Agenda del Mes\n \n\n\n \n \n\n\n\n \n\n 
URL:https://filmotecadecastillayleon.es/evento/club-de-cine-filmoteca-y-filologia-usal-%c2%b7-grupo-de-escritura-de-guiones-reescrituras-libres-noviembre-de-2025-a-junio-de-2026/2026-06-13/
LOCATION:Filmoteca de Castilla y León\, Calle Gonzala Santana\, Salamanca\, Salamanca\, 37001\, España
ORGANIZER;CN="Filmoteca de Castilla y Le%C3%B3n":MAILTO:filmoteca@jcyl.es
END:VEVENT
END:VCALENDAR